BEGIN:VCALENDAR
VERSION:2.0
PRODID:-//Summerstown Mission - ECPv6.15.11//NONSGML v1.0//EN
CALSCALE:GREGORIAN
METHOD:PUBLISH
X-ORIGINAL-URL:https://summerstownmission.org.uk
X-WR-CALDESC:Events for Summerstown Mission
REFRESH-INTERVAL;VALUE=DURATION:PT1H
X-Robots-Tag:noindex
X-PUBLISHED-TTL:PT1H
BEGIN:VTIMEZONE
TZID:UTC
BEGIN:STANDARD
TZOFFSETFROM:+0000
TZOFFSETTO:+0000
TZNAME:UTC
DTSTART:20240101T000000
END:STANDARD
END:VTIMEZONE
BEGIN:VEVENT
DTSTART;TZID=UTC:20250108T200000
DTEND;TZID=UTC:20250108T210000
DTSTAMP:20260420T070002
CREATED:20241023T171407Z
LAST-MODIFIED:20241023T172102Z
UID:2621-1736366400-1736370000@summerstownmission.org.uk
SUMMARY:Small Groups
DESCRIPTION:These meetings take place in the homes of some of the members of the church\, not in the building. If you wanted to attend\, please get in touch and let us know. \n\n\n\nEach group runs slightly differently but the officially begins at 8pm. Sometimes the evening is a time for prayer and sometimes it is a bible study. If you would like to join a small group\, please do get in touch.
URL:https://summerstownmission.org.uk/event/small-groups-copy/
CATEGORIES:Prayer Meeting
END:VEVENT
BEGIN:VEVENT
DTSTART;TZID=UTC:20250115T200000
DTEND;TZID=UTC:20250115T210000
DTSTAMP:20260420T070002
CREATED:20241023T171245Z
LAST-MODIFIED:20241023T171245Z
UID:2619-1736971200-1736974800@summerstownmission.org.uk
SUMMARY:Prayer Meeting
DESCRIPTION:These meetings typically involve a short ‘devotional’ style message from the Bible and a hymn or song before turning our attention to praying together. \n\n\n\nWhoever is leading the meeting will go through a number of subjects in the life of the church\, community and world that need to be prayed about and will invite the church to pray for them. \n\n\n\nThe times of prayer are split up and people are invited to pray one at a time as they feel ready. \n\n\n\nIf you wanted to join us\, to pray together\, then you are very welcome to do so.
URL:https://summerstownmission.org.uk/event/prayer-meeting-9/
CATEGORIES:Prayer Meeting
END:VEVENT
BEGIN:VEVENT
DTSTART;TZID=UTC:20250129T200000
DTEND;TZID=UTC:20250129T210000
DTSTAMP:20260420T070002
CREATED:20241023T171755Z
LAST-MODIFIED:20241023T171911Z
UID:2630-1738180800-1738184400@summerstownmission.org.uk
SUMMARY:Prayer Meeting
DESCRIPTION:These meetings typically involve a short ‘devotional’ style message from the Bible and a hymn or song before turning our attention to praying together. \n\n\n\nWhoever is leading the meeting will go through a number of subjects in the life of the church\, community and world that need to be prayed about and will invite the church to pray for them. \n\n\n\nThe times of prayer are split up and people are invited to pray one at a time as they feel ready. \n\n\n\nIf you wanted to join us\, to pray together\, then you are very welcome to do so.
URL:https://summerstownmission.org.uk/event/prayer-meeting-copy-2/
CATEGORIES:Prayer Meeting
END:VEVENT
BEGIN:VEVENT
DTSTART;TZID=UTC:20250219T200000
DTEND;TZID=UTC:20250219T210000
DTSTAMP:20260420T070002
CREATED:20250219T095049Z
LAST-MODIFIED:20250219T095115Z
UID:2714-1739995200-1739998800@summerstownmission.org.uk
SUMMARY:Prayer Meeting
DESCRIPTION:These meetings typically involve a short ‘devotional’ style message from the Bible and a hymn or song before turning our attention to praying together. \n\n\n\nWhoever is leading the meeting will discuss a number of subjects in the life of the church\, community\, and world that need prayer and will invite the church to pray for them. \n\n\n\nThe times of prayer are split up and people are invited to pray one at a time as they feel ready. \n\n\n\nIf you want to join us and pray together\, you are very welcome to do so.
URL:https://summerstownmission.org.uk/event/prayer-meeting-10/
CATEGORIES:Prayer Meeting
END:VEVENT
BEGIN:VEVENT
DTSTART;TZID=UTC:20250226T200000
DTEND;TZID=UTC:20250226T210000
DTSTAMP:20260420T070002
CREATED:20250219T155229Z
LAST-MODIFIED:20250219T155230Z
UID:2719-1740600000-1740603600@summerstownmission.org.uk
SUMMARY:Small Groups
DESCRIPTION:These meetings take place in the homes of some of the members of the church\, not in the building. If you want to attend\, please get in touch and let us know. \n\n\n\nEach group runs slightly differently but the officially begins at 8 pm. Sometimes the evening is a time for prayer and sometimes it’s a bible study. If you would like to join a small group\, please do get in touch.
URL:https://summerstownmission.org.uk/event/small-groups-6/
CATEGORIES:Prayer Meeting
END:VEVENT
BEGIN:VEVENT
DTSTART;TZID=UTC:20250305T200000
DTEND;TZID=UTC:20250305T210000
DTSTAMP:20260420T070002
CREATED:20250219T155727Z
LAST-MODIFIED:20250219T155727Z
UID:2723-1741204800-1741208400@summerstownmission.org.uk
SUMMARY:Prayer Meeting
DESCRIPTION:These meetings typically involve a short ‘devotional’ style message from the Bible and a hymn or song before turning our attention to praying together. \n\n\n\nWhoever is leading the meeting will discuss a number of subjects in the life of the church\, community\, and world that need prayer and will invite the church to pray for them. \n\n\n\nThe times of prayer are split up and people are invited to pray one at a time as they feel ready. \n\n\n\nIf you want to join us and pray together\, you are very welcome to do so.
URL:https://summerstownmission.org.uk/event/prayer-meeting-11/
CATEGORIES:Prayer Meeting
END:VEVENT
BEGIN:VEVENT
DTSTART;TZID=UTC:20250312T200000
DTEND;TZID=UTC:20250312T210000
DTSTAMP:20260420T070002
CREATED:20250305T133748Z
LAST-MODIFIED:20250305T133749Z
UID:2750-1741809600-1741813200@summerstownmission.org.uk
SUMMARY:Small Groups
DESCRIPTION:These meetings take place in the homes of some of the members of the church\, not in the building. Each group runs slightly differently but officially begins at 8 pm.  \n\n\n\nSometimes the evening is a time for prayer and sometimes it’s a bible study.  \n\n\n\nIf you would like to join a small group\, please do get in touch.
URL:https://summerstownmission.org.uk/event/small-groups-7/
CATEGORIES:Prayer Meeting
END:VEVENT
BEGIN:VEVENT
DTSTART;TZID=UTC:20250319T200000
DTEND;TZID=UTC:20250319T210000
DTSTAMP:20260420T070002
CREATED:20250305T134331Z
LAST-MODIFIED:20250305T134331Z
UID:2756-1742414400-1742418000@summerstownmission.org.uk
SUMMARY:Prayer Meeting
DESCRIPTION:These meetings typically involve a short ‘devotional’ style message from the Bible\, a hymn or song and then prayer. \n\n\n\nWhoever is leading the meeting will introduce a number of subjects and will invite those present to pray for them. \n\n\n\nThe times of prayer are split up and people are invited to pray one at a time as they feel ready. \n\n\n\nIf you want to join us and pray together\, you are very welcome.
URL:https://summerstownmission.org.uk/event/prayer-meeting-12/
CATEGORIES:Prayer Meeting
END:VEVENT
BEGIN:VEVENT
DTSTART;TZID=UTC:20250326T200000
DTEND;TZID=UTC:20250326T210000
DTSTAMP:20260420T070002
CREATED:20250324T164409Z
LAST-MODIFIED:20250324T164423Z
UID:2783-1743019200-1743022800@summerstownmission.org.uk
SUMMARY:Small Groups
DESCRIPTION:These meetings take place in the homes of some of the members of the church\, not in the building. If you want to attend\, please get in touch and let us know. \n\n\n\nEach group runs slightly differently but the officially begins at 8 pm. Sometimes the evening is a time for prayer and sometimes it’s a bible study. If you would like to join a small group\, please do get in touch.
URL:https://summerstownmission.org.uk/event/small-groups-copy-2/
CATEGORIES:Prayer Meeting
END:VEVENT
BEGIN:VEVENT
DTSTART;TZID=UTC:20250402T200000
DTEND;TZID=UTC:20250402T210000
DTSTAMP:20260420T070002
CREATED:20250324T164832Z
LAST-MODIFIED:20250324T164832Z
UID:2791-1743624000-1743627600@summerstownmission.org.uk
SUMMARY:Prayer Meeting
DESCRIPTION:These meetings typically involve a short ‘devotional’ style message from the Bible\, a hymn or song and then prayer. \n\n\n\nWhoever is leading the meeting will introduce a number of subjects and will invite those present to pray for them. \n\n\n\nThe times of prayer are split up and people are invited to pray one at a time as they feel ready. \n\n\n\nIf you want to join us and pray together\, you are very welcome.
URL:https://summerstownmission.org.uk/event/prayer-meeting-13/
CATEGORIES:Prayer Meeting
END:VEVENT
BEGIN:VEVENT
DTSTART;TZID=UTC:20250409T200000
DTEND;TZID=UTC:20250409T210000
DTSTAMP:20260420T070002
CREATED:20250324T164944Z
LAST-MODIFIED:20250324T164945Z
UID:2795-1744228800-1744232400@summerstownmission.org.uk
SUMMARY:Small Groups
DESCRIPTION:These meetings take place in the homes of some of the members of the church\, not in the building. If you want to attend\, please get in touch and let us know. \n\n\n\nEach group runs slightly differently but the officially begins at 8 pm. Sometimes the evening is a time for prayer and sometimes it’s a bible study. If you would like to join a small group\, please do get in touch.
URL:https://summerstownmission.org.uk/event/small-groups-8/
CATEGORIES:Prayer Meeting
END:VEVENT
BEGIN:VEVENT
DTSTART;TZID=UTC:20250423T200000
DTEND;TZID=UTC:20250423T210000
DTSTAMP:20260420T070002
CREATED:20250324T165529Z
LAST-MODIFIED:20250324T165530Z
UID:2805-1745438400-1745442000@summerstownmission.org.uk
SUMMARY:Small Groups
DESCRIPTION:These meetings take place in the homes of some of the members of the church\, not in the building. If you want to attend\, please get in touch and let us know. \n\n\n\nEach group runs slightly differently but the officially begins at 8 pm. Sometimes the evening is a time for prayer and sometimes it’s a bible study. If you would like to join a small group\, please do get in touch.
URL:https://summerstownmission.org.uk/event/small-groups-9/
CATEGORIES:Prayer Meeting
END:VEVENT
BEGIN:VEVENT
DTSTART;TZID=UTC:20250430T200000
DTEND;TZID=UTC:20250430T210000
DTSTAMP:20260420T070002
CREATED:20250324T165650Z
LAST-MODIFIED:20250324T165650Z
UID:2809-1746043200-1746046800@summerstownmission.org.uk
SUMMARY:Prayer Meeting
DESCRIPTION:These meetings typically involve a short ‘devotional’ style message from the Bible\, a hymn or song and then prayer. \n\n\n\nWhoever is leading the meeting will introduce a number of subjects and will invite those present to pray for them. \n\n\n\nThe times of prayer are split up and people are invited to pray one at a time as they feel ready. \n\n\n\nIf you want to join us and pray together\, you are very welcome.
URL:https://summerstownmission.org.uk/event/prayer-meeting-15/
CATEGORIES:Prayer Meeting
END:VEVENT
BEGIN:VEVENT
DTSTART;TZID=UTC:20250507T200000
DTEND;TZID=UTC:20250507T210000
DTSTAMP:20260420T070002
CREATED:20250324T170510Z
LAST-MODIFIED:20250324T170511Z
UID:2817-1746648000-1746651600@summerstownmission.org.uk
SUMMARY:Prayer Meeting
DESCRIPTION:These meetings typically involve a short ‘devotional’ style message from the Bible\, a hymn or song and then prayer. \n\n\n\nWhoever is leading the meeting will introduce a number of subjects and will invite those present to pray for them. \n\n\n\nThe times of prayer are split up and people are invited to pray one at a time as they feel ready. \n\n\n\nIf you want to join us and pray together\, you are very welcome.
URL:https://summerstownmission.org.uk/event/prayer-meeting-16/
CATEGORIES:Prayer Meeting
END:VEVENT
BEGIN:VEVENT
DTSTART;TZID=UTC:20250514T200000
DTEND;TZID=UTC:20250514T210000
DTSTAMP:20260420T070002
CREATED:20250324T170601Z
LAST-MODIFIED:20250324T170602Z
UID:2821-1747252800-1747256400@summerstownmission.org.uk
SUMMARY:Small Groups
DESCRIPTION:These meetings take place in the homes of some of the members of the church\, not in the building. If you want to attend\, please get in touch and let us know. \n\n\n\nEach group runs slightly differently but the officially begins at 8 pm. Sometimes the evening is a time for prayer and sometimes it’s a bible study. If you would like to join a small group\, please do get in touch.
URL:https://summerstownmission.org.uk/event/small-groups-10/
CATEGORIES:Prayer Meeting
END:VEVENT
BEGIN:VEVENT
DTSTART;TZID=UTC:20250521T200000
DTEND;TZID=UTC:20250521T210000
DTSTAMP:20260420T070002
CREATED:20250324T170648Z
LAST-MODIFIED:20250324T170648Z
UID:2825-1747857600-1747861200@summerstownmission.org.uk
SUMMARY:Prayer Meeting
DESCRIPTION:These meetings typically involve a short ‘devotional’ style message from the Bible\, a hymn or song and then prayer. \n\n\n\nWhoever is leading the meeting will introduce a number of subjects and will invite those present to pray for them. \n\n\n\nThe times of prayer are split up and people are invited to pray one at a time as they feel ready. \n\n\n\nIf you want to join us and pray together\, you are very welcome.
URL:https://summerstownmission.org.uk/event/prayer-meeting-17/
CATEGORIES:Prayer Meeting
END:VEVENT
BEGIN:VEVENT
DTSTART;TZID=UTC:20250528T200000
DTEND;TZID=UTC:20250528T210000
DTSTAMP:20260420T070002
CREATED:20250324T170751Z
LAST-MODIFIED:20250324T170752Z
UID:2829-1748462400-1748466000@summerstownmission.org.uk
SUMMARY:Small Groups
DESCRIPTION:These meetings take place in the homes of some of the members of the church\, not in the building. If you want to attend\, please get in touch and let us know. \n\n\n\nEach group runs slightly differently but the officially begins at 8 pm. Sometimes the evening is a time for prayer and sometimes it’s a bible study. If you would like to join a small group\, please do get in touch.
URL:https://summerstownmission.org.uk/event/small-groups-11/
CATEGORIES:Prayer Meeting
END:VEVENT
BEGIN:VEVENT
DTSTART;TZID=UTC:20250604T200000
DTEND;TZID=UTC:20250604T210000
DTSTAMP:20260420T070002
CREATED:20250324T170846Z
LAST-MODIFIED:20250324T170846Z
UID:2833-1749067200-1749070800@summerstownmission.org.uk
SUMMARY:Prayer Meeting
DESCRIPTION:These meetings typically involve a short ‘devotional’ style message from the Bible\, a hymn or song and then prayer. \n\n\n\nWhoever is leading the meeting will introduce a number of subjects and will invite those present to pray for them. \n\n\n\nThe times of prayer are split up and people are invited to pray one at a time as they feel ready. \n\n\n\nIf you want to join us and pray together\, you are very welcome.
URL:https://summerstownmission.org.uk/event/prayer-meeting-18/
CATEGORIES:Prayer Meeting
END:VEVENT
BEGIN:VEVENT
DTSTART;TZID=UTC:20250611T200000
DTEND;TZID=UTC:20250611T210000
DTSTAMP:20260420T070002
CREATED:20250324T170927Z
LAST-MODIFIED:20250324T170927Z
UID:2837-1749672000-1749675600@summerstownmission.org.uk
SUMMARY:Small Groups
DESCRIPTION:These meetings take place in the homes of some of the members of the church\, not in the building. If you want to attend\, please get in touch and let us know. \n\n\n\nEach group runs slightly differently but the officially begins at 8 pm. Sometimes the evening is a time for prayer and sometimes it’s a bible study. If you would like to join a small group\, please do get in touch.
URL:https://summerstownmission.org.uk/event/small-groups-12/
CATEGORIES:Prayer Meeting
END:VEVENT
BEGIN:VEVENT
DTSTART;TZID=UTC:20250618T200000
DTEND;TZID=UTC:20250618T210000
DTSTAMP:20260420T070002
CREATED:20250324T171005Z
LAST-MODIFIED:20250324T171005Z
UID:2841-1750276800-1750280400@summerstownmission.org.uk
SUMMARY:Prayer Meeting
DESCRIPTION:These meetings typically involve a short ‘devotional’ style message from the Bible\, a hymn or song and then prayer. \n\n\n\nWhoever is leading the meeting will introduce a number of subjects and will invite those present to pray for them. \n\n\n\nThe times of prayer are split up and people are invited to pray one at a time as they feel ready. \n\n\n\nIf you want to join us and pray together\, you are very welcome.
URL:https://summerstownmission.org.uk/event/prayer-meeting-19/
CATEGORIES:Prayer Meeting
END:VEVENT
BEGIN:VEVENT
DTSTART;TZID=UTC:20250702T200000
DTEND;TZID=UTC:20250702T210000
DTSTAMP:20260420T070002
CREATED:20250324T171106Z
LAST-MODIFIED:20250324T171107Z
UID:2847-1751486400-1751490000@summerstownmission.org.uk
SUMMARY:Prayer Meeting
DESCRIPTION:These meetings typically involve a short ‘devotional’ style message from the Bible\, a hymn or song and then prayer. \n\n\n\nWhoever is leading the meeting will introduce a number of subjects and will invite those present to pray for them. \n\n\n\nThe times of prayer are split up and people are invited to pray one at a time as they feel ready. \n\n\n\nIf you want to join us and pray together\, you are very welcome.
URL:https://summerstownmission.org.uk/event/prayer-meeting-20/
CATEGORIES:Prayer Meeting
END:VEVENT
BEGIN:VEVENT
DTSTART;TZID=UTC:20250709T200000
DTEND;TZID=UTC:20250709T210000
DTSTAMP:20260420T070002
CREATED:20250324T171206Z
LAST-MODIFIED:20250324T171206Z
UID:2851-1752091200-1752094800@summerstownmission.org.uk
SUMMARY:Small Groups
DESCRIPTION:These meetings take place in the homes of some of the members of the church\, not in the building. If you want to attend\, please get in touch and let us know. \n\n\n\nEach group runs slightly differently but the officially begins at 8 pm. Sometimes the evening is a time for prayer and sometimes it’s a bible study. If you would like to join a small group\, please do get in touch.
URL:https://summerstownmission.org.uk/event/small-groups-13/
CATEGORIES:Prayer Meeting
END:VEVENT
BEGIN:VEVENT
DTSTART;TZID=UTC:20250716T200000
DTEND;TZID=UTC:20250716T210000
DTSTAMP:20260420T070002
CREATED:20250324T171332Z
LAST-MODIFIED:20250324T171333Z
UID:2855-1752696000-1752699600@summerstownmission.org.uk
SUMMARY:Prayer Meeting
DESCRIPTION:These meetings typically involve a short ‘devotional’ style message from the Bible\, a hymn or song and then prayer. \n\n\n\nWhoever is leading the meeting will introduce a number of subjects and will invite those present to pray for them. \n\n\n\nThe times of prayer are split up and people are invited to pray one at a time as they feel ready. \n\n\n\nIf you want to join us and pray together\, you are very welcome.
URL:https://summerstownmission.org.uk/event/prayer-meeting-21/
CATEGORIES:Prayer Meeting
END:VEVENT
BEGIN:VEVENT
DTSTART;TZID=UTC:20250723T200000
DTEND;TZID=UTC:20250723T210000
DTSTAMP:20260420T070002
CREATED:20250324T171411Z
LAST-MODIFIED:20250324T171412Z
UID:2859-1753300800-1753304400@summerstownmission.org.uk
SUMMARY:Small Groups
DESCRIPTION:These meetings take place in the homes of some of the members of the church\, not in the building. If you want to attend\, please get in touch and let us know. \n\n\n\nEach group runs slightly differently but the officially begins at 8 pm. Sometimes the evening is a time for prayer and sometimes it’s a bible study. If you would like to join a small group\, please do get in touch.
URL:https://summerstownmission.org.uk/event/small-groups-14/
CATEGORIES:Prayer Meeting
END:VEVENT
BEGIN:VEVENT
DTSTART;TZID=UTC:20250730T200000
DTEND;TZID=UTC:20250730T210000
DTSTAMP:20260420T070002
CREATED:20250324T171455Z
LAST-MODIFIED:20250324T171456Z
UID:2863-1753905600-1753909200@summerstownmission.org.uk
SUMMARY:Prayer Meeting
DESCRIPTION:These meetings typically involve a short ‘devotional’ style message from the Bible\, a hymn or song and then prayer. \n\n\n\nWhoever is leading the meeting will introduce a number of subjects and will invite those present to pray for them. \n\n\n\nThe times of prayer are split up and people are invited to pray one at a time as they feel ready. \n\n\n\nIf you want to join us and pray together\, you are very welcome.
URL:https://summerstownmission.org.uk/event/prayer-meeting-22/
CATEGORIES:Prayer Meeting
END:VEVENT
BEGIN:VEVENT
DTSTART;TZID=UTC:20250806T200000
DTEND;TZID=UTC:20250806T210000
DTSTAMP:20260420T070002
CREATED:20250324T171857Z
LAST-MODIFIED:20250324T171857Z
UID:2869-1754510400-1754514000@summerstownmission.org.uk
SUMMARY:Prayer Meeting
DESCRIPTION:These meetings typically involve a short ‘devotional’ style message from the Bible\, a hymn or song and then prayer. \n\n\n\nWhoever is leading the meeting will introduce a number of subjects and will invite those present to pray for them. \n\n\n\nThe times of prayer are split up and people are invited to pray one at a time as they feel ready. \n\n\n\nIf you want to join us and pray together\, you are very welcome.
URL:https://summerstownmission.org.uk/event/prayer-meeting-23/
CATEGORIES:Prayer Meeting
END:VEVENT
BEGIN:VEVENT
DTSTART;TZID=UTC:20250813T200000
DTEND;TZID=UTC:20250813T210000
DTSTAMP:20260420T070002
CREATED:20250324T172058Z
LAST-MODIFIED:20250324T172059Z
UID:2873-1755115200-1755118800@summerstownmission.org.uk
SUMMARY:Small Groups
DESCRIPTION:These meetings take place in the homes of some of the members of the church\, not in the building. If you want to attend\, please get in touch and let us know. \n\n\n\nEach group runs slightly differently but the officially begins at 8 pm. Sometimes the evening is a time for prayer and sometimes it’s a bible study. If you would like to join a small group\, please do get in touch.
URL:https://summerstownmission.org.uk/event/small-groups-15/
CATEGORIES:Prayer Meeting
END:VEVENT
BEGIN:VEVENT
DTSTART;TZID=UTC:20250820T200000
DTEND;TZID=UTC:20250820T210000
DTSTAMP:20260420T070002
CREATED:20250324T172131Z
LAST-MODIFIED:20250324T172132Z
UID:2877-1755720000-1755723600@summerstownmission.org.uk
SUMMARY:Prayer Meeting
DESCRIPTION:These meetings typically involve a short ‘devotional’ style message from the Bible\, a hymn or song and then prayer. \n\n\n\nWhoever is leading the meeting will introduce a number of subjects and will invite those present to pray for them. \n\n\n\nThe times of prayer are split up and people are invited to pray one at a time as they feel ready. \n\n\n\nIf you want to join us and pray together\, you are very welcome.
URL:https://summerstownmission.org.uk/event/prayer-meeting-24/
CATEGORIES:Prayer Meeting
END:VEVENT
BEGIN:VEVENT
DTSTART;TZID=UTC:20250827T200000
DTEND;TZID=UTC:20250827T210000
DTSTAMP:20260420T070002
CREATED:20250324T172207Z
LAST-MODIFIED:20250324T172207Z
UID:2881-1756324800-1756328400@summerstownmission.org.uk
SUMMARY:Small Groups
DESCRIPTION:These meetings take place in the homes of some of the members of the church\, not in the building. If you want to attend\, please get in touch and let us know. \n\n\n\nEach group runs slightly differently but the officially begins at 8 pm. Sometimes the evening is a time for prayer and sometimes it’s a bible study. If you would like to join a small group\, please do get in touch.
URL:https://summerstownmission.org.uk/event/small-groups-16/
CATEGORIES:Prayer Meeting
END:VEVENT
BEGIN:VEVENT
DTSTART;TZID=UTC:20250903T200000
DTEND;TZID=UTC:20250903T210000
DTSTAMP:20260420T070002
CREATED:20250324T172359Z
LAST-MODIFIED:20250324T172400Z
UID:2889-1756929600-1756933200@summerstownmission.org.uk
SUMMARY:Prayer Meeting
DESCRIPTION:These meetings typically involve a short ‘devotional’ style message from the Bible\, a hymn or song and then prayer. \n\n\n\nWhoever is leading the meeting will introduce a number of subjects and will invite those present to pray for them. \n\n\n\nThe times of prayer are split up and people are invited to pray one at a time as they feel ready. \n\n\n\nIf you want to join us and pray together\, you are very welcome.
URL:https://summerstownmission.org.uk/event/prayer-meeting-25/
CATEGORIES:Prayer Meeting
END:VEVENT
END:VCALENDAR