BEGIN:VCALENDAR
VERSION:2.0
PRODID:-//Summerstown Mission - ECPv6.15.11//NONSGML v1.0//EN
CALSCALE:GREGORIAN
METHOD:PUBLISH
X-WR-CALNAME:Summerstown Mission
X-ORIGINAL-URL:https://summerstownmission.org.uk
X-WR-CALDESC:Events for Summerstown Mission
REFRESH-INTERVAL;VALUE=DURATION:PT1H
X-Robots-Tag:noindex
X-PUBLISHED-TTL:PT1H
BEGIN:VTIMEZONE
TZID:UTC
BEGIN:STANDARD
TZOFFSETFROM:+0000
TZOFFSETTO:+0000
TZNAME:UTC
DTSTART:20240101T000000
END:STANDARD
END:VTIMEZONE
BEGIN:VEVENT
DTSTART;TZID=UTC:20251126T200000
DTEND;TZID=UTC:20251126T210000
DTSTAMP:20260420T154141
CREATED:20250324T173329Z
LAST-MODIFIED:20250324T173329Z
UID:2936-1764187200-1764190800@summerstownmission.org.uk
SUMMARY:Small Groups
DESCRIPTION:These meetings take place in the homes of some of the members of the church\, not in the building. If you want to attend\, please get in touch and let us know. \n\n\n\nEach group runs slightly differently but the officially begins at 8 pm. Sometimes the evening is a time for prayer and sometimes it’s a bible study. If you would like to join a small group\, please do get in touch.
URL:https://summerstownmission.org.uk/event/small-groups-22/
CATEGORIES:Prayer Meeting
END:VEVENT
BEGIN:VEVENT
DTSTART;TZID=UTC:20260107T200000
DTEND;TZID=UTC:20260107T210000
DTSTAMP:20260420T154141
CREATED:20251230T134020Z
LAST-MODIFIED:20251230T134021Z
UID:3216-1767816000-1767819600@summerstownmission.org.uk
SUMMARY:Prayer Meeting
DESCRIPTION:These meetings typically involve a Bible reading\, a hymn or song and then prayer. \n\n\n\nThe person leading the meeting will introduce several subjects and invite those present to pray. \n\n\n\nThe times of prayer are split up\, and people are invited to pray one at a time as they feel ready. \n\n\n\nIf you want to join us and pray together\, you are very welcome.
URL:https://summerstownmission.org.uk/event/prayer-meeting-14/
CATEGORIES:Prayer Meeting
END:VEVENT
BEGIN:VEVENT
DTSTART;TZID=UTC:20260114T200000
DTEND;TZID=UTC:20260114T210000
DTSTAMP:20260420T154141
CREATED:20260108T173056Z
LAST-MODIFIED:20260108T173056Z
UID:3252-1768420800-1768424400@summerstownmission.org.uk
SUMMARY:Small Groups
DESCRIPTION:These meetings take place in the homes of some of the members of the church\, not in the building. If you want to attend\, please get in touch and let us know. \n\n\n\nEach group runs slightly differently but the officially begins at 8 pm. Sometimes the evening is a time for prayer and sometimes it’s a bible study. If you would like to join a small group\, please do get in touch.
URL:https://summerstownmission.org.uk/event/small-groups-23/
CATEGORIES:Prayer Meeting
END:VEVENT
END:VCALENDAR