BEGIN:VCALENDAR
VERSION:2.0
PRODID:-//Summerstown Mission - ECPv6.15.11//NONSGML v1.0//EN
CALSCALE:GREGORIAN
METHOD:PUBLISH
X-ORIGINAL-URL:https://summerstownmission.org.uk
X-WR-CALDESC:Events for Summerstown Mission
REFRESH-INTERVAL;VALUE=DURATION:PT1H
X-Robots-Tag:noindex
X-PUBLISHED-TTL:PT1H
BEGIN:VTIMEZONE
TZID:UTC
BEGIN:STANDARD
TZOFFSETFROM:+0000
TZOFFSETTO:+0000
TZNAME:UTC
DTSTART:20240101T000000
END:STANDARD
END:VTIMEZONE
BEGIN:VEVENT
DTSTART;TZID=UTC:20250406T103000
DTEND;TZID=UTC:20250406T120000
DTSTAMP:20260425T145506
CREATED:20250324T164919Z
LAST-MODIFIED:20250324T164919Z
UID:2793-1743935400-1743940800@summerstownmission.org.uk
SUMMARY:Morning Service
DESCRIPTION:These morning services typically include prayer\, bible reading\, singing\, kids’ talk\, sermon and communion. \n\n\n\nPlease do feel free to come along\, it would be great to have you with us.
URL:https://summerstownmission.org.uk/event/morning-service-18/
CATEGORIES:Sunday Services
END:VEVENT
BEGIN:VEVENT
DTSTART;TZID=UTC:20250413T103000
DTEND;TZID=UTC:20250413T103000
DTSTAMP:20260425T145506
CREATED:20250324T165253Z
LAST-MODIFIED:20250410T122057Z
UID:2799-1744540200-1744540200@summerstownmission.org.uk
SUMMARY:Morning Service & Lunch
DESCRIPTION:Our morning services typically include prayer\, bible readings\, singing hymns\, a kid’s talk and a sermon.  \n\n\n\nThis week\, our service will be followed by a bring-and-share lunch and a Q&A time. \n\n\n\nPlease do feel free to come along\, it would be great to have you with us.
URL:https://summerstownmission.org.uk/event/morning-service-lunch-10/
CATEGORIES:Sunday Services
END:VEVENT
BEGIN:VEVENT
DTSTART;TZID=UTC:20250427T103000
DTEND;TZID=UTC:20250427T150000
DTSTAMP:20260425T145506
CREATED:20250324T165615Z
LAST-MODIFIED:20250324T165616Z
UID:2807-1745749800-1745766000@summerstownmission.org.uk
SUMMARY:Morning Service  & Lunch
DESCRIPTION:Our morning services typically include prayer\, bible readings\, singing hymns\, a kids talk and a sermon.  \n\n\n\nThis week\, our service will lead into a bring & share lunch followed by a topical discussion. \n\n\n\nPlease do feel free to come along\, it would great to have you with us.
URL:https://summerstownmission.org.uk/event/morning-service-lunch-11/
CATEGORIES:Sunday Services
END:VEVENT
END:VCALENDAR