BEGIN:VCALENDAR
VERSION:2.0
PRODID:-//Summerstown Mission - ECPv6.15.11//NONSGML v1.0//EN
CALSCALE:GREGORIAN
METHOD:PUBLISH
X-ORIGINAL-URL:https://summerstownmission.org.uk
X-WR-CALDESC:Events for Summerstown Mission
REFRESH-INTERVAL;VALUE=DURATION:PT1H
X-Robots-Tag:noindex
X-PUBLISHED-TTL:PT1H
BEGIN:VTIMEZONE
TZID:UTC
BEGIN:STANDARD
TZOFFSETFROM:+0000
TZOFFSETTO:+0000
TZNAME:UTC
DTSTART:20240101T000000
END:STANDARD
END:VTIMEZONE
BEGIN:VEVENT
DTSTART;TZID=UTC:20250601T103000
DTEND;TZID=UTC:20250601T120000
DTSTAMP:20260424T133055
CREATED:20250324T170825Z
LAST-MODIFIED:20250324T170825Z
UID:2831-1748773800-1748779200@summerstownmission.org.uk
SUMMARY:Morning Service
DESCRIPTION:These morning services typically include prayer\, bible reading\, singing\, kids’ talk\, sermon and communion. \n\n\n\nPlease do feel free to come along\, it would be great to have you with us.
URL:https://summerstownmission.org.uk/event/morning-service-22/
CATEGORIES:Sunday Services
END:VEVENT
BEGIN:VEVENT
DTSTART;TZID=UTC:20250608T103000
DTEND;TZID=UTC:20250608T103000
DTSTAMP:20260424T133055
CREATED:20250324T170906Z
LAST-MODIFIED:20250324T170906Z
UID:2835-1749378600-1749378600@summerstownmission.org.uk
SUMMARY:Morning Service & Lunch.
DESCRIPTION:Our morning services typically include prayer\, bible readings\, singing hymns\, a kid’s talk and a sermon.  \n\n\n\nThis week\, our service will be followed by a bring-and-share lunch and a Q&A time. \n\n\n\nPlease do feel free to come along\, it would be great to have you with us.
URL:https://summerstownmission.org.uk/event/morning-service-lunch-14/
CATEGORIES:Sunday Services
END:VEVENT
BEGIN:VEVENT
DTSTART;TZID=UTC:20250615T103000
DTEND;TZID=UTC:20250615T120000
DTSTAMP:20260424T133055
CREATED:20250324T170951Z
LAST-MODIFIED:20250324T170951Z
UID:2839-1749983400-1749988800@summerstownmission.org.uk
SUMMARY:Morning Service
DESCRIPTION:These morning services typically include prayer\, bible reading\, singing\, kids’ talk\, sermon and communion. \n\n\n\nPlease do feel free to come along\, it would be great to have you with us.
URL:https://summerstownmission.org.uk/event/morning-service-23/
CATEGORIES:Sunday Services
END:VEVENT
BEGIN:VEVENT
DTSTART;TZID=UTC:20250622T103000
DTEND;TZID=UTC:20250622T150000
DTSTAMP:20260424T133055
CREATED:20250324T171027Z
LAST-MODIFIED:20250324T171027Z
UID:2843-1750588200-1750604400@summerstownmission.org.uk
SUMMARY:Morning Service  & Lunch
DESCRIPTION:Our morning services typically include prayer\, bible readings\, singing hymns\, a kids talk and a sermon.  \n\n\n\nThis week\, our service will lead into a bring & share lunch followed by a topical discussion. \n\n\n\nPlease do feel free to come along\, it would great to have you with us.
URL:https://summerstownmission.org.uk/event/morning-service-lunch-15/
CATEGORIES:Sunday Services
END:VEVENT
BEGIN:VEVENT
DTSTART;TZID=UTC:20250629T103000
DTEND;TZID=UTC:20250629T120000
DTSTAMP:20260424T133055
CREATED:20250324T171048Z
LAST-MODIFIED:20250324T171048Z
UID:2845-1751193000-1751198400@summerstownmission.org.uk
SUMMARY:Morning Service
DESCRIPTION:These morning services typically include prayer\, bible reading\, singing\, kids’ talk\, sermon and communion. \n\n\n\nPlease do feel free to come along\, it would be great to have you with us.
URL:https://summerstownmission.org.uk/event/morning-service-24/
CATEGORIES:Sunday Services
END:VEVENT
END:VCALENDAR