BEGIN:VCALENDAR
VERSION:2.0
PRODID:-//Summerstown Mission - ECPv6.15.11//NONSGML v1.0//EN
CALSCALE:GREGORIAN
METHOD:PUBLISH
X-WR-CALNAME:Summerstown Mission
X-ORIGINAL-URL:https://summerstownmission.org.uk
X-WR-CALDESC:Events for Summerstown Mission
REFRESH-INTERVAL;VALUE=DURATION:PT1H
X-Robots-Tag:noindex
X-PUBLISHED-TTL:PT1H
BEGIN:VTIMEZONE
TZID:UTC
BEGIN:STANDARD
TZOFFSETFROM:+0000
TZOFFSETTO:+0000
TZNAME:UTC
DTSTART:20240101T000000
END:STANDARD
END:VTIMEZONE
BEGIN:VEVENT
DTSTART;TZID=UTC:20250706T103000
DTEND;TZID=UTC:20250706T120000
DTSTAMP:20260424T103643
CREATED:20250324T171136Z
LAST-MODIFIED:20250324T171137Z
UID:2849-1751797800-1751803200@summerstownmission.org.uk
SUMMARY:Morning Service
DESCRIPTION:These morning services typically include prayer\, bible reading\, singing\, kids’ talk\, sermon and communion. \n\n\n\nPlease do feel free to come along\, it would be great to have you with us.
URL:https://summerstownmission.org.uk/event/morning-service-25/
CATEGORIES:Sunday Services
END:VEVENT
BEGIN:VEVENT
DTSTART;TZID=UTC:20250713T103000
DTEND;TZID=UTC:20250713T103000
DTSTAMP:20260424T103643
CREATED:20250324T171234Z
LAST-MODIFIED:20250324T171234Z
UID:2853-1752402600-1752402600@summerstownmission.org.uk
SUMMARY:Morning Service & Lunch.
DESCRIPTION:Our morning services typically include prayer\, bible readings\, singing hymns\, a kid’s talk and a sermon.  \n\n\n\nThis week\, our service will be followed by a bring-and-share lunch and a Q&A time. \n\n\n\nPlease do feel free to come along\, it would be great to have you with us.
URL:https://summerstownmission.org.uk/event/morning-service-lunch-16/
CATEGORIES:Sunday Services
END:VEVENT
BEGIN:VEVENT
DTSTART;TZID=UTC:20250720T103000
DTEND;TZID=UTC:20250720T120000
DTSTAMP:20260424T103643
CREATED:20250324T171354Z
LAST-MODIFIED:20250324T171355Z
UID:2857-1753007400-1753012800@summerstownmission.org.uk
SUMMARY:Morning Service
DESCRIPTION:These morning services typically include prayer\, bible reading\, singing\, kids’ talk\, sermon and communion. \n\n\n\nPlease do feel free to come along\, it would be great to have you with us.
URL:https://summerstownmission.org.uk/event/morning-service-26/
CATEGORIES:Sunday Services
END:VEVENT
BEGIN:VEVENT
DTSTART;TZID=UTC:20250727T103000
DTEND;TZID=UTC:20250727T150000
DTSTAMP:20260424T103643
CREATED:20250324T171437Z
LAST-MODIFIED:20250324T171438Z
UID:2861-1753612200-1753628400@summerstownmission.org.uk
SUMMARY:Morning Service  & Lunch
DESCRIPTION:Our morning services typically include prayer\, bible readings\, singing hymns\, a kids talk and a sermon.  \n\n\n\nThis week\, our service will lead into a bring & share lunch followed by a topical discussion. \n\n\n\nPlease do feel free to come along\, it would great to have you with us.
URL:https://summerstownmission.org.uk/event/morning-service-lunch-17/
CATEGORIES:Sunday Services
END:VEVENT
END:VCALENDAR