BEGIN:VCALENDAR
VERSION:2.0
PRODID:-//Summerstown Mission - ECPv6.15.11//NONSGML v1.0//EN
CALSCALE:GREGORIAN
METHOD:PUBLISH
X-ORIGINAL-URL:https://summerstownmission.org.uk
X-WR-CALDESC:Events for Summerstown Mission
REFRESH-INTERVAL;VALUE=DURATION:PT1H
X-Robots-Tag:noindex
X-PUBLISHED-TTL:PT1H
BEGIN:VTIMEZONE
TZID:UTC
BEGIN:STANDARD
TZOFFSETFROM:+0000
TZOFFSETTO:+0000
TZNAME:UTC
DTSTART:20240101T000000
END:STANDARD
END:VTIMEZONE
BEGIN:VEVENT
DTSTART;TZID=UTC:20250907T103000
DTEND;TZID=UTC:20250907T120000
DTSTAMP:20260424T103655
CREATED:20250324T172418Z
LAST-MODIFIED:20250324T172418Z
UID:2888-1757241000-1757246400@summerstownmission.org.uk
SUMMARY:Morning Service
DESCRIPTION:These morning services typically include prayer\, bible reading\, singing\, kids’ talk\, sermon and communion. \n\n\n\nPlease do feel free to come along\, it would be great to have you with us.
URL:https://summerstownmission.org.uk/event/morning-service-30/
CATEGORIES:Sunday Services
END:VEVENT
BEGIN:VEVENT
DTSTART;TZID=UTC:20250914T103000
DTEND;TZID=UTC:20250914T103000
DTSTAMP:20260424T103655
CREATED:20250324T172500Z
LAST-MODIFIED:20250324T172500Z
UID:2894-1757845800-1757845800@summerstownmission.org.uk
SUMMARY:Morning Service & Lunch.
DESCRIPTION:Our morning services typically include prayer\, bible readings\, singing hymns\, a kid’s talk and a sermon.  \n\n\n\nThis week\, our service will be followed by a bring-and-share lunch and a Q&A time. \n\n\n\nPlease do feel free to come along\, it would be great to have you with us.
URL:https://summerstownmission.org.uk/event/morning-service-lunch-20/
CATEGORIES:Sunday Services
END:VEVENT
BEGIN:VEVENT
DTSTART;TZID=UTC:20250921T103000
DTEND;TZID=UTC:20250921T120000
DTSTAMP:20260424T103655
CREATED:20250324T172546Z
LAST-MODIFIED:20250324T172547Z
UID:2898-1758450600-1758456000@summerstownmission.org.uk
SUMMARY:Morning Service
DESCRIPTION:These morning services typically include prayer\, bible reading\, singing\, kids’ talk\, sermon and communion. \n\n\n\nPlease do feel free to come along\, it would be great to have you with us.
URL:https://summerstownmission.org.uk/event/morning-service-31/
CATEGORIES:Sunday Services
END:VEVENT
BEGIN:VEVENT
DTSTART;TZID=UTC:20250928T103000
DTEND;TZID=UTC:20250928T150000
DTSTAMP:20260424T103655
CREATED:20250324T172629Z
LAST-MODIFIED:20250925T220457Z
UID:2902-1759055400-1759071600@summerstownmission.org.uk
SUMMARY:Harvest All-Age Service  & Lunch
DESCRIPTION:Our all-age services are designed for children and adults to enjoy; they are generally more informal and include some interactive elements and a short talk from the Bible. \n\n\n\nThis week\, our all-age service will be followed by a Harvest Lunch; all are welcome to attend. \n\n\n\nPlease do feel free to come along\, it would great to have you with us.
URL:https://summerstownmission.org.uk/event/morning-service-lunch-21/
CATEGORIES:Sunday Services
END:VEVENT
END:VCALENDAR