BEGIN:VCALENDAR
VERSION:2.0
PRODID:-//Summerstown Mission - ECPv6.15.11//NONSGML v1.0//EN
CALSCALE:GREGORIAN
METHOD:PUBLISH
X-WR-CALNAME:Summerstown Mission
X-ORIGINAL-URL:https://summerstownmission.org.uk
X-WR-CALDESC:Events for Summerstown Mission
REFRESH-INTERVAL;VALUE=DURATION:PT1H
X-Robots-Tag:noindex
X-PUBLISHED-TTL:PT1H
BEGIN:VTIMEZONE
TZID:UTC
BEGIN:STANDARD
TZOFFSETFROM:+0000
TZOFFSETTO:+0000
TZNAME:UTC
DTSTART:20240101T000000
END:STANDARD
END:VTIMEZONE
BEGIN:VEVENT
DTSTART;TZID=UTC:20251026T103000
DTEND;TZID=UTC:20251026T150000
DTSTAMP:20260424T103727
CREATED:20250324T172931Z
LAST-MODIFIED:20251021T083243Z
UID:2918-1761474600-1761490800@summerstownmission.org.uk
SUMMARY:Morning Service  & BYO Lunch
DESCRIPTION:Our morning services typically include prayer\, bible readings\, singing hymns\, a children’s talk and a sermon. \n\n\n\nThis week\, we will be staying to eat lunch together afterwards (bring-your-own) and to have some topical teaching and discussion. \n\n\n\nPlease do feel free to come along\, it would be great to have you with us.
URL:https://summerstownmission.org.uk/event/morning-service-lunch-23/
CATEGORIES:Sunday Services
END:VEVENT
END:VCALENDAR