BEGIN:VCALENDAR
VERSION:2.0
PRODID:-//Summerstown Mission - ECPv6.15.11//NONSGML v1.0//EN
CALSCALE:GREGORIAN
METHOD:PUBLISH
X-WR-CALNAME:Summerstown Mission
X-ORIGINAL-URL:https://summerstownmission.org.uk
X-WR-CALDESC:Events for Summerstown Mission
REFRESH-INTERVAL;VALUE=DURATION:PT1H
X-Robots-Tag:noindex
X-PUBLISHED-TTL:PT1H
BEGIN:VTIMEZONE
TZID:UTC
BEGIN:STANDARD
TZOFFSETFROM:+0000
TZOFFSETTO:+0000
TZNAME:UTC
DTSTART:20240101T000000
END:STANDARD
END:VTIMEZONE
BEGIN:VEVENT
DTSTART;TZID=UTC:20251116T103000
DTEND;TZID=UTC:20251116T120000
DTSTAMP:20260422T100716
CREATED:20250324T173233Z
LAST-MODIFIED:20250324T173234Z
UID:2930-1763289000-1763294400@summerstownmission.org.uk
SUMMARY:Morning Service
DESCRIPTION:These morning services typically include prayer\, bible reading\, singing\, kids’ talk\, sermon and communion. \n\n\n\nPlease do feel free to come along\, it would be great to have you with us.
URL:https://summerstownmission.org.uk/event/morning-service-35/
CATEGORIES:Sunday Services
END:VEVENT
END:VCALENDAR