BEGIN:VCALENDAR
VERSION:2.0
PRODID:-//Summerstown Mission - ECPv6.15.11//NONSGML v1.0//EN
CALSCALE:GREGORIAN
METHOD:PUBLISH
X-WR-CALNAME:Summerstown Mission
X-ORIGINAL-URL:https://summerstownmission.org.uk
X-WR-CALDESC:Events for Summerstown Mission
REFRESH-INTERVAL;VALUE=DURATION:PT1H
X-Robots-Tag:noindex
X-PUBLISHED-TTL:PT1H
BEGIN:VTIMEZONE
TZID:UTC
BEGIN:STANDARD
TZOFFSETFROM:+0000
TZOFFSETTO:+0000
TZNAME:UTC
DTSTART:20250101T000000
END:STANDARD
END:VTIMEZONE
BEGIN:VEVENT
DTSTART;TZID=UTC:20260104T103000
DTEND;TZID=UTC:20260104T120000
DTSTAMP:20260422T072042
CREATED:20251230T133843Z
LAST-MODIFIED:20251230T133843Z
UID:3214-1767522600-1767528000@summerstownmission.org.uk
SUMMARY:Morning Service
DESCRIPTION:These morning services typically include prayer\, Bible reading\, singing\, kids’ talk\, sermon and The Lord’s Supper. \n\n\n\nPlease do feel free to come along\, you are very welcome.
URL:https://summerstownmission.org.uk/event/morning-service-37/
CATEGORIES:Sunday Services
END:VEVENT
END:VCALENDAR