BEGIN:VCALENDAR
VERSION:2.0
PRODID:-//Summerstown Mission - ECPv6.15.11//NONSGML v1.0//EN
CALSCALE:GREGORIAN
METHOD:PUBLISH
X-ORIGINAL-URL:https://summerstownmission.org.uk
X-WR-CALDESC:Events for Summerstown Mission
REFRESH-INTERVAL;VALUE=DURATION:PT1H
X-Robots-Tag:noindex
X-PUBLISHED-TTL:PT1H
BEGIN:VTIMEZONE
TZID:UTC
BEGIN:STANDARD
TZOFFSETFROM:+0000
TZOFFSETTO:+0000
TZNAME:UTC
DTSTART:20230101T000000
END:STANDARD
END:VTIMEZONE
BEGIN:VEVENT
DTSTART;TZID=UTC:20241229T180000
DTEND;TZID=UTC:20241229T180000
DTSTAMP:20260419T205434
CREATED:20241023T170859Z
LAST-MODIFIED:20241023T170859Z
UID:2615-1735495200-1735495200@summerstownmission.org.uk
SUMMARY:Evening Service With Communion
DESCRIPTION:Our evening services typically include prayer\, bible reading\, singing hymns and a sermon.  \n\n\n\nPlease do feel free to come along\, it would great to have you with us.
URL:https://summerstownmission.org.uk/event/evening-service-with-communion-2/
CATEGORIES:Sunday Services
END:VEVENT
BEGIN:VEVENT
DTSTART;TZID=UTC:20241229T103000
DTEND;TZID=UTC:20241229T120000
DTSTAMP:20260419T205434
CREATED:20241023T170524Z
LAST-MODIFIED:20241023T170524Z
UID:2612-1735468200-1735473600@summerstownmission.org.uk
SUMMARY:Morning Service
DESCRIPTION:Our morning services typically include prayer\, bible readings\, singing hymns\, a kids talk and a sermon.  \n\n\n\nPlease do feel free to come along\, it would great to have you with us.
URL:https://summerstownmission.org.uk/event/morning-service-12/
CATEGORIES:Sunday Services
END:VEVENT
BEGIN:VEVENT
DTSTART;TZID=UTC:20241225T110000
DTEND;TZID=UTC:20241225T120000
DTSTAMP:20260419T205434
CREATED:20240315T152852Z
LAST-MODIFIED:20241023T172005Z
UID:2170-1735124400-1735128000@summerstownmission.org.uk
SUMMARY:Christmas Day Service
DESCRIPTION:
URL:https://summerstownmission.org.uk/event/christmas-day-service/
CATEGORIES:Special Services
ATTACH;FMTTYPE=image/png:https://summerstownmission.org.uk/wp-content/uploads/2023/11/8-mmOrr9V7fQ0GrA5.png
END:VEVENT
BEGIN:VEVENT
DTSTART;TZID=UTC:20241222T103000
DTEND;TZID=UTC:20241222T150000
DTSTAMP:20260419T205434
CREATED:20241023T170144Z
LAST-MODIFIED:20241023T171945Z
UID:2608-1734863400-1734879600@summerstownmission.org.uk
SUMMARY:Christmas Family Service + Christmas Lunch
DESCRIPTION:Our family services are a slightly more informal meeting in which we still sing\, pray and hear preaching but with more of a focus on those who may be unfamiliar to a church meeting. There is usually some kind of interaction in the form of a quiz or similar. This will also include something prepared by our Sunday Club group as well as our very own Summerstown Choir \n\n\n\nThis week\, our service will lead into a Christmas lunch followed by a brief afterword. \n\n\n\nPlease do feel free to come along\, it would great to have you with us.
URL:https://summerstownmission.org.uk/event/christmas-family-service-christmas-lunch/
CATEGORIES:Special Services,Sunday Services
END:VEVENT
BEGIN:VEVENT
DTSTART;TZID=UTC:20241215T103000
DTEND;TZID=UTC:20241215T120000
DTSTAMP:20260419T205434
CREATED:20241023T165545Z
LAST-MODIFIED:20241023T172016Z
UID:2606-1734258600-1734264000@summerstownmission.org.uk
SUMMARY:Christmas Carol Service
DESCRIPTION:This is our special carol service where we’ll be singing a variety of well know Christmas carols along with bible readings and a sermon. \n\n\n\nPlease do feel free to come along\, it would great to have you with us.
URL:https://summerstownmission.org.uk/event/christmas-carol-service/
CATEGORIES:Special Services,Sunday Services
END:VEVENT
BEGIN:VEVENT
DTSTART;TZID=UTC:20241208T103000
DTEND;TZID=UTC:20241208T150000
DTSTAMP:20260419T205434
CREATED:20241023T165011Z
LAST-MODIFIED:20241023T165011Z
UID:2597-1733653800-1733670000@summerstownmission.org.uk
SUMMARY:Morning Service  & Lunch
DESCRIPTION:Our morning services typically include prayer\, bible readings\, singing hymns\, a kids talk and a sermon.  \n\n\n\nThis week\, our service will lead into a bring & share lunch followed by a topical discussion. \n\n\n\nPlease do feel free to come along\, it would great to have you with us.
URL:https://summerstownmission.org.uk/event/morning-service-lunch-5/
CATEGORIES:Sunday Services
END:VEVENT
BEGIN:VEVENT
DTSTART;TZID=UTC:20241201T103000
DTEND;TZID=UTC:20241201T120000
DTSTAMP:20260419T205434
CREATED:20241023T164740Z
LAST-MODIFIED:20241023T165119Z
UID:2595-1733049000-1733054400@summerstownmission.org.uk
SUMMARY:Morning Service
DESCRIPTION:Our morning services typically include prayer\, bible readings\, singing hymns\, a kids talk and a sermon.  \n\n\n\nPlease do feel free to come along\, it would great to have you with us.
URL:https://summerstownmission.org.uk/event/morning-service-copy/
CATEGORIES:Sunday Services
END:VEVENT
BEGIN:VEVENT
DTSTART;TZID=UTC:20241124T103000
DTEND;TZID=UTC:20241124T150000
DTSTAMP:20260419T205434
CREATED:20241023T164609Z
LAST-MODIFIED:20241023T164846Z
UID:2588-1732444200-1732460400@summerstownmission.org.uk
SUMMARY:Morning Service  & Lunch
DESCRIPTION:Our morning services typically include prayer\, bible readings\, singing hymns\, a kids talk and a sermon.  \n\n\n\nThis week\, our service will lead into a bring & share lunch followed by a topical discussion. \n\n\n\nPlease do feel free to come along\, it would great to have you with us.
URL:https://summerstownmission.org.uk/event/morning-service-lunch-copy/
CATEGORIES:Sunday Services
END:VEVENT
BEGIN:VEVENT
DTSTART;TZID=UTC:20241117T103000
DTEND;TZID=UTC:20241117T120000
DTSTAMP:20260419T205434
CREATED:20241023T164456Z
LAST-MODIFIED:20241023T164456Z
UID:2589-1731839400-1731844800@summerstownmission.org.uk
SUMMARY:Morning Service
DESCRIPTION:Our morning services typically include prayer\, bible readings\, singing hymns\, a kids talk and a sermon.  \n\n\n\nPlease do feel free to come along\, it would great to have you with us.
URL:https://summerstownmission.org.uk/event/morning-service-11/
CATEGORIES:Sunday Services
END:VEVENT
BEGIN:VEVENT
DTSTART;TZID=UTC:20241110T103000
DTEND;TZID=UTC:20241110T150000
DTSTAMP:20260419T205434
CREATED:20241023T164218Z
LAST-MODIFIED:20241025T094650Z
UID:2582-1731234600-1731250800@summerstownmission.org.uk
SUMMARY:Remembrance Sunday Service  & Lunch
DESCRIPTION:Our morning services typically include prayer\, bible readings\, singing hymns\, a kids talk and a sermon.  \n\n\n\nThis week\, our service will lead into a bring & share lunch followed by a Q&A. \n\n\n\nPlease do feel free to come along\, it would great to have you with us.
URL:https://summerstownmission.org.uk/event/morning-service-lunch-4/
CATEGORIES:Sunday Services
END:VEVENT
BEGIN:VEVENT
DTSTART;TZID=UTC:20241103T103000
DTEND;TZID=UTC:20241103T120000
DTSTAMP:20260419T205434
CREATED:20241023T163942Z
LAST-MODIFIED:20241023T163942Z
UID:2579-1730629800-1730635200@summerstownmission.org.uk
SUMMARY:Morning Service
DESCRIPTION:Our morning services typically include prayer\, bible readings\, singing hymns\, a kids talk and a sermon.  \n\n\n\nPlease do feel free to come along\, it would great to have you with us.
URL:https://summerstownmission.org.uk/event/morning-service-10/
CATEGORIES:Sunday Services
END:VEVENT
BEGIN:VEVENT
DTSTART;TZID=UTC:20241027T103000
DTEND;TZID=UTC:20241027T150000
DTSTAMP:20260419T205434
CREATED:20240904T074008Z
LAST-MODIFIED:20241023T163839Z
UID:2516-1730025000-1730041200@summerstownmission.org.uk
SUMMARY:Morning Service  & Lunch
DESCRIPTION:Our morning services typically include prayer\, bible readings\, singing hymns\, a kids talk and a sermon.  \n\n\n\nThis week\, our service will lead into a bring & share lunch followed by a topical discussion. \n\n\n\nPlease do feel free to come along\, it would great to have you with us.
URL:https://summerstownmission.org.uk/event/morning-service-lunch-3/
CATEGORIES:Sunday Services
END:VEVENT
BEGIN:VEVENT
DTSTART;TZID=UTC:20241020T103000
DTEND;TZID=UTC:20241020T120000
DTSTAMP:20260419T205434
CREATED:20240904T073800Z
LAST-MODIFIED:20240904T073800Z
UID:2512-1729420200-1729425600@summerstownmission.org.uk
SUMMARY:Morning Service
DESCRIPTION:Our morning services typically include prayer\, bible readings\, singing hymns\, a kids talk and a sermon.  \n\n\n\nPlease do feel free to come along\, it would great to have you with us.
URL:https://summerstownmission.org.uk/event/morning-service-9/
CATEGORIES:Sunday Services
END:VEVENT
BEGIN:VEVENT
DTSTART;TZID=UTC:20241013T103000
DTEND;TZID=UTC:20241013T150000
DTSTAMP:20260419T205434
CREATED:20240904T073909Z
LAST-MODIFIED:20240904T073909Z
UID:2514-1728815400-1728831600@summerstownmission.org.uk
SUMMARY:Morning Service  & Lunch
DESCRIPTION:Our morning services typically include prayer\, bible readings\, singing hymns\, a kids talk and a sermon.  \n\n\n\nThis week\, our service will lead into a bring & share lunch followed by an opportunity to ask questions about the sermon. \n\n\n\nPlease do feel free to come along\, it would great to have you with us.
URL:https://summerstownmission.org.uk/event/morning-service-lunch-2/
CATEGORIES:Sunday Services
END:VEVENT
BEGIN:VEVENT
DTSTART;TZID=UTC:20241006T103000
DTEND;TZID=UTC:20241006T120000
DTSTAMP:20260419T205434
CREATED:20240904T073658Z
LAST-MODIFIED:20240904T073658Z
UID:2510-1728210600-1728216000@summerstownmission.org.uk
SUMMARY:Morning Service
DESCRIPTION:Our morning services typically include prayer\, bible readings\, singing hymns\, a kids talk and a sermon.  \n\n\n\nPlease do feel free to come along\, it would great to have you with us.
URL:https://summerstownmission.org.uk/event/morning-service-8/
CATEGORIES:Sunday Services
END:VEVENT
BEGIN:VEVENT
DTSTART;TZID=UTC:20240929T110000
DTEND;TZID=UTC:20240929T110000
DTSTAMP:20260419T205434
CREATED:20240821T143200Z
LAST-MODIFIED:20241023T172219Z
UID:2483-1727607600-1727607600@summerstownmission.org.uk
SUMMARY:Harvest Family Service & Lunch
DESCRIPTION:Our family services are a slightly more informal meeting in which we still sing\, pray and hear preaching but with more of a focus on those who may be unfamiliar to a church meeting. There is usually some kind of interaction in the form of a quiz or similar. \n\n\n\nThis week\, our service will lead into a harvest lunch followed by a brief afterword. \n\n\n\nPlease do feel free to come along\, it would great to have you with us.
URL:https://summerstownmission.org.uk/event/harvest-family-service-lunch/
CATEGORIES:Special Services,Sunday Services
END:VEVENT
BEGIN:VEVENT
DTSTART;TZID=UTC:20240922T110000
DTEND;TZID=UTC:20240922T110000
DTSTAMP:20260419T205434
CREATED:20240821T142521Z
LAST-MODIFIED:20240821T142522Z
UID:2480-1727002800-1727002800@summerstownmission.org.uk
SUMMARY:Morning Service  & Lunch
DESCRIPTION:Our morning services typically include prayer\, bible readings\, singing hymns\, a kids talk and a sermon.  \n\n\n\nThis week\, our service will lead into a bring & share lunch followed by an opportunity to ask questions about the sermon. \n\n\n\nPlease do feel free to come along\, it would great to have you with us.
URL:https://summerstownmission.org.uk/event/morning-service-lunch/
CATEGORIES:Sunday Services
END:VEVENT
BEGIN:VEVENT
DTSTART;TZID=UTC:20240915T180000
DTEND;TZID=UTC:20240915T180000
DTSTAMP:20260419T205434
CREATED:20240821T142249Z
LAST-MODIFIED:20240821T142249Z
UID:2477-1726423200-1726423200@summerstownmission.org.uk
SUMMARY:Evening Service With Communion
DESCRIPTION:Our evening services typically include prayer\, bible reading\, singing hymns and a sermon.  \n\n\n\nPlease do feel free to come along\, it would great to have you with us.
URL:https://summerstownmission.org.uk/event/evening-service-with-communion/
CATEGORIES:Sunday Services
END:VEVENT
BEGIN:VEVENT
DTSTART;TZID=UTC:20240915T110000
DTEND;TZID=UTC:20240915T110000
DTSTAMP:20260419T205434
CREATED:20240821T142213Z
LAST-MODIFIED:20240821T142213Z
UID:2475-1726398000-1726398000@summerstownmission.org.uk
SUMMARY:Morning Service
DESCRIPTION:Our morning services typically include prayer\, bible readings\, singing hymns\, a kids talk and a sermon.  \n\n\n\nPlease do feel free to come along\, it would great to have you with us.
URL:https://summerstownmission.org.uk/event/morning-service-7/
CATEGORIES:Sunday Services
END:VEVENT
BEGIN:VEVENT
DTSTART;TZID=UTC:20240908T110000
DTEND;TZID=UTC:20240908T110000
DTSTAMP:20260419T205434
CREATED:20240821T142141Z
LAST-MODIFIED:20240821T142546Z
UID:2473-1725793200-1725793200@summerstownmission.org.uk
SUMMARY:Morning Service & Lunch
DESCRIPTION:Our morning services typically include prayer\, bible readings\, singing hymns\, a kids talk and a sermon.  \n\n\n\nThis week\, our service will lead into a bring & share lunch followed by an opportunity to ask questions about the sermon. \n\n\n\nPlease do feel free to come along\, it would great to have you with us.
URL:https://summerstownmission.org.uk/event/morning-service-6/
CATEGORIES:Sunday Services
END:VEVENT
BEGIN:VEVENT
DTSTART;TZID=UTC:20240901T180000
DTEND;TZID=UTC:20240901T180000
DTSTAMP:20260419T205434
CREATED:20240821T142033Z
LAST-MODIFIED:20240821T142357Z
UID:2471-1725213600-1725213600@summerstownmission.org.uk
SUMMARY:Evening Service
DESCRIPTION:Our evening services typically include prayer\, bible reading\, singing hymns and a sermon.  \n\n\n\nPlease do feel free to come along\, it would great to have you with us.
URL:https://summerstownmission.org.uk/event/evening-service-copy/
CATEGORIES:Sunday Services
END:VEVENT
BEGIN:VEVENT
DTSTART;TZID=UTC:20240901T110000
DTEND;TZID=UTC:20240901T110000
DTSTAMP:20260419T205434
CREATED:20240821T141926Z
LAST-MODIFIED:20240821T141927Z
UID:2469-1725188400-1725188400@summerstownmission.org.uk
SUMMARY:Morning Service With Communion
DESCRIPTION:Our morning services typically include prayer\, bible readings\, singing hymns\, a kids talk and a sermon.  \n\n\n\nPlease do feel free to come along\, it would great to have you with us.
URL:https://summerstownmission.org.uk/event/morning-service-with-communion/
CATEGORIES:Sunday Services
END:VEVENT
BEGIN:VEVENT
DTSTART;TZID=UTC:20240825T110000
DTEND;TZID=UTC:20240825T110000
DTSTAMP:20260419T205434
CREATED:20240723T152928Z
LAST-MODIFIED:20240723T152928Z
UID:2351-1724583600-1724583600@summerstownmission.org.uk
SUMMARY:Morning Service
DESCRIPTION:Our morning services typically include prayer\, bible readings\, singing hymns\, a kids talk and a sermon.  \n\n\n\nThis week\, our service will lead into a bring & share lunch followed by an opportunity to ask questions about the sermon. \n\n\n\nPlease do feel free to come along\, it would great to have you with us.
URL:https://summerstownmission.org.uk/event/morning-service-5/
CATEGORIES:Sunday Services
END:VEVENT
BEGIN:VEVENT
DTSTART;TZID=UTC:20240818T180000
DTEND;TZID=UTC:20240818T180000
DTSTAMP:20260419T205434
CREATED:20240723T152754Z
LAST-MODIFIED:20240724T134129Z
UID:2349-1724004000-1724004000@summerstownmission.org.uk
SUMMARY:Evening Service With Communion
DESCRIPTION:Our evening services typically include prayer\, bible reading\, singing hymns and a sermon.  \n\n\n\nPlease do feel free to come along\, it would great to have you with us.
URL:https://summerstownmission.org.uk/event/evening-service-2/
CATEGORIES:Sunday Services
END:VEVENT
BEGIN:VEVENT
DTSTART;TZID=UTC:20240818T110000
DTEND;TZID=UTC:20240818T110000
DTSTAMP:20260419T205434
CREATED:20240723T152637Z
LAST-MODIFIED:20240723T152638Z
UID:2347-1723978800-1723978800@summerstownmission.org.uk
SUMMARY:Morning Service
DESCRIPTION:Our morning services typically include prayer\, bible readings\, singing hymns\, a kids talk and a sermon.  \n\n\n\nPlease do feel free to come along\, it would great to have you with us.
URL:https://summerstownmission.org.uk/event/morning-service-4/
CATEGORIES:Sunday Services
END:VEVENT
BEGIN:VEVENT
DTSTART;TZID=UTC:20240811T110000
DTEND;TZID=UTC:20240811T110000
DTSTAMP:20260419T205434
CREATED:20240723T152341Z
LAST-MODIFIED:20240723T152341Z
UID:2343-1723374000-1723374000@summerstownmission.org.uk
SUMMARY:Morning Service
DESCRIPTION:Our morning services typically include prayer\, bible readings\, singing hymns\, a kids talk and a sermon.  \n\n\n\nThis week\, our service will lead into a bring & share lunch followed by an opportunity to ask questions about the sermon. \n\n\n\nPlease do feel free to come along\, it would great to have you with us.
URL:https://summerstownmission.org.uk/event/morning-service-3/
CATEGORIES:Sunday Services
END:VEVENT
BEGIN:VEVENT
DTSTART;TZID=UTC:20240804T180000
DTEND;TZID=UTC:20240804T180000
DTSTAMP:20260419T205434
CREATED:20240723T152528Z
LAST-MODIFIED:20240723T152528Z
UID:2345-1722794400-1722794400@summerstownmission.org.uk
SUMMARY:Evening Service
DESCRIPTION:Our evening services typically include prayer\, bible reading\, singing hymns and a sermon.  \n\n\n\nPlease do feel free to come along\, it would great to have you with us.
URL:https://summerstownmission.org.uk/event/evening-service/
CATEGORIES:Sunday Services
END:VEVENT
BEGIN:VEVENT
DTSTART;TZID=UTC:20240804T110000
DTEND;TZID=UTC:20240804T110000
DTSTAMP:20260419T205434
CREATED:20240723T152151Z
LAST-MODIFIED:20240724T134100Z
UID:2341-1722769200-1722769200@summerstownmission.org.uk
SUMMARY:Morning Service With Communion
DESCRIPTION:Our morning services typically include prayer\, bible readings\, singing hymns\, a kids talk and a sermon.  \n\n\n\nPlease do feel free to come along\, it would great to have you with us.
URL:https://summerstownmission.org.uk/event/morning-service-2/
CATEGORIES:Sunday Services
END:VEVENT
BEGIN:VEVENT
DTSTART;TZID=UTC:20240728T110000
DTEND;TZID=UTC:20240728T110000
DTSTAMP:20260419T205434
CREATED:20240723T150910Z
LAST-MODIFIED:20240723T152040Z
UID:2333-1722164400-1722164400@summerstownmission.org.uk
SUMMARY:Morning Service
DESCRIPTION:Our morning services typically include prayer\, bible readings\, singing hymns\, a kids talk and a sermon.  \n\n\n\n \n\n\n\nThis week\, our service will lead into a BYO picnic at a local park (weather permitting) followed by an opportunity to ask questions about the sermon.   \n\n\n\nPlease do feel free to come along\, it would great to have you with us.
URL:https://summerstownmission.org.uk/event/morning-service/
CATEGORIES:Sunday Services
END:VEVENT
END:VCALENDAR